Workbook

Sheet ДАННЫЕ
D2: ФИЗИОЛОГИЧЕСКИЕ ПРОБЫ
C4: ДАТА | D4: ФАМИЛИЯ, ИМЯ, ОТЧЕСТВО | E4: НОМЕР ИСТОРИИ БОЛЕЗНИ И ПРОЦЕДУРНОЙ КАРТЫ | F4: ВОЗРАСТ (ПОЛНЫХ ЛЕТ) | G4: ДЛИНА ТЕЛА (РОСТ В САНТИМЕТРАХ) | H4: МАССА ТЕЛА (ВЕС В КИЛОГРАММАХ) | I4: ЖИЗНЕННАЯ ЁМКОСТЬ ЛЁГКИХ (В МИЛИЛИТРАХ) | J4: ДЛИТЕЛЬНОСТЬ ЗАДЕРЖКИ ДЫХАНИЯ ПОСЛЕ СПОКОЙНОГО ВДОХА | K4: ДЛИТЕЛЬНОСТЬ ЗАДЕРЖКИ ДЫХАНИЯ ПОСЛЕ 10 МЕДЛЕННЫХ ВДОХОВ-ВЫДОХОВ | L4: ПРОБА ШТАНГЕ № 1 (В СЕКУНДАХ) | M4: ПРОБА ШТАНГЕ № 2 (ПОСЛЕ ФИЗИЧЕСКОЙ НАГРУЗКИ, В СЕКУНДАХ) | N4: ПРОБА ШТАНГЕ № 3 (ЧЕРЕЗ 1 МИНУТУ ПОСЛЕ ФИЗИЧЕСКОЙ НАГРУЗКИ, В СЕКУНДАХ) | O4: ПРОБА ШТАНГЕ № 4 (ПОСЛЕ 10 МЕДЛЕННЫХ ВДОХОВ-ВЫДОХОВ, В СЕКУНДАХ) | P4: ЧСС ПОСЛЕ ПРОБЫ ШТАНГЕ № 1 | Q4: ЧСС В ПОКОЕ
C5: 1 | D5: 2 | E5: 3 | F5: 4 | G5: 5 | H5: 6 | I5: 7 | J5: 8 | K5: 9 | L5: 10 | M5: 11 | N5: 12 | O5: 13 | P5: 14 | Q5: 15 | R5: 16
C6: 0 | D6: ФИО 01 | T6: =G6+H6 -> 0 | V6: =H6*P6 -> 0
C7: 0 | D7: ФИО 02 | T7: =G7+H7 -> 0 | V7: =H7*P7 -> 0
C8: 0 | D8: ФИО 03 | T8: =G8+H8 -> 0 | V8: =H8*P8 -> 0
C9: 1 | D9: ФИО 04 | T9: =G9+H9 -> 0 | V9: =H9*P9 -> 0
C10: 0 | D10: ФИО 05 | T10: =G10+H10 -> 0 | V10: =H10*P10 -> 0
C11: 0 | D11: ФИО 06 | T11: =G11+H11 -> 0 | V11: =H11*P11 -> 0
C12: 0 | D12: ФИО 07 | T12: =G12+H12 -> 0 | V12: =H12*P12 -> 0
C13: 0 | D13: ФИО 08 | T13: =G13+H13 -> 0 | V13: =H13*P13 -> 0
C14: 0 | D14: ФИО 09 | T14: =G14+H14 -> 0 | V14: =H14*P14 -> 0
C15: 0 | D15: ФИО 10 | T15: =G15+H15 -> 0 | V15: =H15*P15 -> 0
C16: 0 | D16: ФИО 11 | T16: =G16+H16 -> 0 | V16: =H16*P16 -> 0
C17: 0 | D17: ФИО 12 | T17: =G17+H17 -> 0 | V17: =H17*P17 -> 0
... C25: 0 | D25: ФИО 20 | T25: =G25+H25 -> 0 | V25: =H25*P25 -> 0
D28: ФАМИЛИЯ, ИМЯ, ОТЧЕСТВО | E28: НОМЕР ИСТОРИИ БОЛЕЗНИ И ПРОЦЕДУРНОЙ КАРТЫ | F28: ПРОБА СЕРКИНА | I28: УСТОЙЧИВОСТЬ ФУНКЦИОНАЛЬНЫХ СИСТЕМ ОРГАНИЗМА К ГИПОКСИИ | J28: ИНДЕКС РЕСПИРАТОРНОЙ АДАПТАЦИИ | K28: ИНДЕКС ЭФФЕКТИВНОСТИ ВЕНТИЛЯЦИИ | L28: ИНДЕКС ПОТРЕБЛЕНИЯ КИСЛОРОДА | M28: ОБЩАЯ ЗАДЕРЖКА ДЫХАНИЯ | N28: ИНДЕКС НЕРВНОГО ЖИЗНЕННОГО РЕЗЕРВА | O28: ИНДЕКС ЖИЗНЕННОГО РЕЗЕРВА
C29: ДАТА | F29: ПО ПРОБЕ ШТАНГЕ В ПОКОЕ | G29: ПО ПРОБЕ ШТАНГЕ ПОСЛЕ ЗАВЕРШЕНИЯ НАГРУЗКИ | H29: ПО ПРОБЕ ШТАНГЕ ЧЕРЕЗ 1 МИНУТУ ОТДЫХА ПОСЛЕ НАГРУЗКИ
C30: 1 | D30: 2 | E30: 3 | F30: 4 | G30: 5 | H30: 6 | I30: 7 | J30: 8 | K30: 9 | L30: 10 | M30: 11 | N30: 12 | O30: 13 | P30: 14 | Q30: 15 | R30: 16
C31: =C6 -> 0 | D31: =D6 -> ФИО 01 | E31: =E6 -> 0 | F31: =R6 -> 0 | G31: =IF(L6=0,0,(100/L6*M6)) -> 0 | H31: =IF(L6=0,0,(100/L6*N6)) -> 0 | I31: =IF(T6=0,0,(N6/T6)) -> 0 | J31: =IF(V6=0,0,(I6*L6/V6)) -> 0 | K31: =IF(J6=0,0,(K6/J6)) -> 0 | L31: =IF(N6=0,0,(O6/N6)) -> 0 | M31: =SUM(J6,O6,N6) -> 0 | N31: =IF(J6=0,0,(N6/J6)) -> 0 | O31: =M31/100 -> 0
C32: =C7 -> 0 | D32: =D7 -> ФИО 02 | E32: =E7 -> 0 | F32: =R7 -> 0 | G32: =IF(L7=0,0,(100/L7*M7)) -> 0 | H32: =IF(L7=0,0,(100/L7*N7)) -> 0 | I32: =IF(T7=0,0,(N7/T7)) -> 0 | J32: =IF(V7=0,0,(I7*L7/V7)) -> 0 | K32: =IF(J7=0,0,(K7/J7)) -> 0 | L32: =IF(N7=0,0,(O7/N7)) -> 0 | M32: =SUM(J7,O7,N7) -> 0 | N32: =IF(J7=0,0,(N7/J7)) -> 0 | O32: =M32/100 -> 0
C33: =C8 -> 0 | D33: =D8 -> ФИО 03 | E33: =E8 -> 0 | F33: =R8 -> 0 | G33: =IF(L8=0,0,(100/L8*M8)) -> 0 | H33: =IF(L8=0,0,(100/L8*N8)) -> 0 | I33: =IF(T8=0,0,(N8/T8)) -> 0 | J33: =IF(V8=0,0,(I8*L8/V8)) -> 0 | K33: =IF(J8=0,0,(K8/J8)) -> 0 | L33: =IF(N8=0,0,(O8/N8)) -> 0 | M33: =SUM(J8,O8,N8) -> 0 | N33: =IF(J8=0,0,(N8/J8)) -> 0 | O33: =M33/100 -> 0
C34: =C9 -> 1 | D34: =D9 -> ФИО 04 | E34: =E9 -> 0 | F34: =R9 -> 0 | G34: =IF(L9=0,0,(100/L9*M9)) -> 0 | H34: =IF(L9=0,0,(100/L9*N9)) -> 0 | I34: =IF(T9=0,0,(N9/T9)) -> 0 | J34: =IF(V9=0,0,(I9*L9/V9)) -> 0 | K34: =IF(J9=0,0,(K9/J9)) -> 0 | L34: =IF(N9=0,0,(O9/N9)) -> 0 | M34: =SUM(J9,O9,N9) -> 0 | N34: =IF(J9=0,0,(N9/J9)) -> 0 | O34: =M34/100 -> 0
C35: =C10 -> 0 | D35: =D10 -> ФИО 05 | E35: =E10 -> 0 | F35: =R10 -> 0 | G35: =IF(L10=0,0,(100/L10*M10)) -> 0 | H35: =IF(L10=0,0,(100/L10*N10)) -> 0 | I35: =IF(T10=0,0,(N10/T10)) -> 0 | J35: =IF(V10=0,0,(I10*L10/V10)) -> 0 | K35: =IF(J10=0,0,(K10/J10)) -> 0 | L35: =IF(N10=0,0,(O10/N10)) -> 0 | M35: =SUM(J10,O10,N10) -> 0 | N35: =IF(J10=0,0,(N10/J10)) -> 0 | O35: =M35/100 -> 0
C36: =C11 -> 0 | D36: =D11 -> ФИО 06 | E36: =E11 -> 0 | F36: =R11 -> 0 | G36: =IF(L11=0,0,(100/L11*M11)) -> 0 | H36: =IF(L11=0,0,(100/L11*N11)) -> 0 | I36: =IF(T11=0,0,(N11/T11)) -> 0 | J36: =IF(V11=0,0,(I11*L11/V11)) -> 0 | K36: =IF(J11=0,0,(K11/J11)) -> 0 | L36: =IF(N11=0,0,(O11/N11)) -> 0 | M36: =SUM(J11,O11,N11) -> 0 | N36: =IF(J11=0,0,(N11/J11)) -> 0 | O36: =M36/100 -> 0
C37: =C12 -> 0 | D37: =D12 -> ФИО 07 | E37: =E12 -> 0 | F37: =R12 -> 0 | G37: =IF(L12=0,0,(100/L12*M12)) -> 0 | H37: =IF(L12=0,0,(100/L12*N12)) -> 0 | I37: =IF(T12=0,0,(N12/T12)) -> 0 | J37: =IF(V12=0,0,(I12*L12/V12)) -> 0 | K37: =IF(J12=0,0,(K12/J12)) -> 0 | L37: =IF(N12=0,0,(O12/N12)) -> 0 | M37: =SUM(J12,O12,N12) -> 0 | N37: =IF(J12=0,0,(N12/J12)) -> 0 | O37: =M37/100 -> 0
C38: =C13 -> 0 | D38: =D13 -> ФИО 08 | E38: =E13 -> 0 | F38: =R13 -> 0 | G38: =IF(L13=0,0,(100/L13*M13)) -> 0 | H38: =IF(L13=0,0,(100/L13*N13)) -> 0 | I38: =IF(T13=0,0,(N13/T13)) -> 0 | J38: =IF(V13=0,0,(I13*L13/V13)) -> 0 | K38: =IF(J13=0,0,(K13/J13)) -> 0 | L38: =IF(N13=0,0,(O13/N13)) -> 0 | M38: =SUM(J13,O13,N13) -> 0 | N38: =IF(J13=0,0,(N13/J13)) -> 0 | O38: =M38/100 -> 0
C39: =C14 -> 0 | D39: =D14 -> ФИО 09 | E39: =E14 -> 0 | F39: =R14 -> 0 | G39: =IF(L14=0,0,(100/L14*M14)) -> 0 | H39: =IF(L14=0,0,(100/L14*N14)) -> 0 | I39: =IF(T14=0,0,(N14/T14)) -> 0 | J39: =IF(V14=0,0,(I14*L14/V14)) -> 0 | K39: =IF(J14=0,0,(K14/J14)) -> 0 | L39: =IF(N14=0,0,(O14/N14)) -> 0 | M39: =SUM(J14,O14,N14) -> 0 | N39: =IF(J14=0,0,(N14/J14)) -> 0 | O39: =M39/100 -> 0
C40: =C15 -> 0 | D40: =D15 -> ФИО 10 | E40: =E15 -> 0 | F40: =R15 -> 0 | G40: =IF(L15=0,0,(100/L15*M15)) -> 0 | H40: =IF(L15=0,0,(100/L15*N15)) -> 0 | I40: =IF(T15=0,0,(N15/T15)) -> 0 | J40: =IF(V15=0,0,(I15*L15/V15)) -> 0 | K40: =IF(J15=0,0,(K15/J15)) -> 0 | L40: =IF(N15=0,0,(O15/N15)) -> 0 | M40: =SUM(J15,O15,N15) -> 0 | N40: =IF(J15=0,0,(N15/J15)) -> 0 | O40: =M40/100 -> 0
C41: =C16 -> 0 | D41: =D16 -> ФИО 11 | E41: =E16 -> 0 | F41: =R16 -> 0 | G41: =IF(L16=0,0,(100/L16*M16)) -> 0 | H41: =IF(L16=0,0,(100/L16*N16)) -> 0 | I41: =IF(T16=0,0,(N16/T16)) -> 0 | J41: =IF(V16=0,0,(I16*L16/V16)) -> 0 | K41: =IF(J16=0,0,(K16/J16)) -> 0 | L41: =IF(N16=0,0,(O16/N16)) -> 0 | M41: =SUM(J16,O16,N16) -> 0 | N41: =IF(J16=0,0,(N16/J16)) -> 0 | O41: =M41/100 -> 0
C42: =C17 -> 0 | D42: =D17 -> ФИО 12 | E42: =E17 -> 0 | F42: =R17 -> 0 | G42: =IF(L17=0,0,(100/L17*M17)) -> 0 | H42: =IF(L17=0,0,(100/L17*N17)) -> 0 | I42: =IF(T17=0,0,(N17/T17)) -> 0 | J42: =IF(V17=0,0,(I17*L17/V17)) -> 0 | K42: =IF(J17=0,0,(K17/J17)) -> 0 | L42: =IF(N17=0,0,(O17/N17)) -> 0 | M42: =SUM(J17,O17,N17) -> 0 | N42: =IF(J17=0,0,(N17/J17)) -> 0 | O42: =M42/100 -> 0
... C50: =C25 -> 0 | D50: =D25 -> ФИО 20 | E50: =E25 -> 0 | F50: =R25 -> 0 | G50: =IF(L25=0,0,(100/L25*M25)) -> 0 | H50: =IF(L25=0,0,(100/L25*N25)) -> 0 | I50: =IF(T25=0,0,(N25/T25)) -> 0 | J50: =IF(V25=0,0,(I25*L25/V25)) -> 0 | K50: =IF(J25=0,0,(K25/J25)) -> 0 | L50: =IF(N25=0,0,(O25/N25)) -> 0 | M50: =SUM(J25,O25,N25) -> 0 | N50: =IF(J25=0,0,(N25/J25)) -> 0 | O50: =M50/100 -> 0

Sheet РЕЗУЛЬТАТ
B4: =ДАННЫЕ!C31 -> 0 | H4: =ДАННЫЕ!C8 -> 0
B5: № ИБ/№ ПК | D5: =ДАННЫЕ!E31 -> 0 | H5: № ИБ/№ ПК | J5: =ДАННЫЕ!E8 -> 0 | N5: № ИБ/№ ПК | T5: № ИБ/№ ПК | Z5: № ИБ/№ ПК
B6: =ДАННЫЕ!D31 -> ФИО 01 | H6: =ДАННЫЕ!D8 -> ФИО 03
B7: ПОКАЗАТЕЛИ | D7: РЕЗУЛЬТАТ | E7: НОРМА | H7: ПОКАЗАТЕЛИ | J7: РЕЗУЛЬТАТ | K7: НОРМА | N7: ПОКАЗАТЕЛИ | P7: РЕЗУЛЬТАТ | Q7: НОРМА | T7: ПОКАЗАТЕЛИ | V7: РЕЗУЛЬТАТ | W7: НОРМА | Z7: ПОКАЗАТЕЛИ | AB7: РЕЗУЛЬТАТ | AC7: НОРМА
B8: 1 | C8: ОПС ПО ПШ 1 | D8: =ДАННЫЕ!L6 -> 0 | E8: >35 | H8: 1 | I8: ОПС ПО ПШ 1 | K8: >35 | N8: 1 | O8: ОПС ПО ПШ 1 | Q8: >35 | T8: 1 | U8: ОПС ПО ПШ 1 | W8: >35 | Z8: 1 | AA8: ОПС ПО ПШ 1 | AC8: >35
B9: 2 | C9: ОПС ПО ШПН | D9: =ДАННЫЕ!M6 -> 0 | E9: >30 | H9: 2 | I9: ОПС ПО ШПН | K9: >30 | N9: 2 | O9: ОПС ПО ШПН | Q9: >30 | T9: 2 | U9: ОПС ПО ШПН | W9: >30 | Z9: 2 | AA9: ОПС ПО ШПН | AC9: >30
B10: 3 | C10: ОПС ПО ШПО | D10: =ДАННЫЕ!N6 -> 0 | E10: >50 - <100 | H10: 3 | I10: ОПС ПО ШПО | K10: >50 - <100 | N10: 3 | O10: ОПС ПО ШПО | Q10: >50 - <100 | T10: 3 | U10: ОПС ПО ШПО | W10: >50 - <100 | Z10: 3 | AA10: ОПС ПО ШПО | AC10: >50 - <100
B11: 4 | C11: УГ | D11: =ДАННЫЕ!I31 -> 0 | E11: >0,1 | H11: 4 | I11: УГ | K11: >0,1 | N11: 4 | O11: УГ | Q11: >0,1 | T11: 4 | U11: УГ | W11: >0,1 | Z11: 4 | AA11: УГ | AC11: >0,1
B12: 5 | C12: ИРА | D12: =ДАННЫЕ!J31 -> 0 | E12: 25 - >25 | H12: 5 | I12: ИРА | K12: 25 - >25 | N12: 5 | O12: ИРА | Q12: 25 - >25 | T12: 5 | U12: ИРА | W12: 25 - >25 | Z12: 5 | AA12: ИРА | AC12: 25 - >25
B13: 6 | C13: ИЭВ | D13: =ДАННЫЕ!K31 -> 0 | E13: 1,3 ± 0,01 | H13: 6 | I13: ИЭВ | K13: 1,3 ± 0,01 | N13: 6 | O13: ИЭВ | Q13: 1,3 ± 0,01 | T13: 6 | U13: ИЭВ | W13: 1,3 ± 0,01 | Z13: 6 | AA13: ИЭВ | AC13: 1,3 ± 0,01
B14: 7 | C14: ИПК | D14: =ДАННЫЕ!L31 -> 0 | E14: 2,2 ± 0,01 | H14: 7 | I14: ИПК | K14: 2,2 ± 0,01 | N14: 7 | O14: ИПК | Q14: 2,2 ± 0,01 | T14: 7 | U14: ИПК | W14: 2,2 ± 0,01 | Z14: 7 | AA14: ИПК | AC14: 2,2 ± 0,01
B15: 8 | C15: ОЗД | D15: =ДАННЫЕ!M31 -> 0 | E15: ≥ 133 | H15: 8 | I15: ОЗД | K15: 1,33 ± 0,43 | N15: 8 | O15: ОЗД | Q15: 1,33 ± 0,43 | T15: 8 | U15: ОЗД | W15: 1,33 ± 0,43 | Z15: 8 | AA15: ОЗД | AC15: 1,33 ± 0,43
B16: 9 | C16: ИНЖР | D16: =ДАННЫЕ!N31 -> 0 | E16: 1,33 ± 0,01 | H16: 9 | I16: ИНЖР | K16: 1,33 ± 0,01 | N16: 9 | O16: ИНЖР | Q16: 1,33 ± 0,01 | T16: 9 | U16: ИНЖР | W16: 1,33 ± 0,01 | Z16: 9 | AA16: ИНЖР | AC16: 1,33 ± 0,01
B17: 10 | C17: ИЖР | D17: =ДАННЫЕ!O31 -> 0 | E17: 0,59 ± 0,01 | H17: 10 | I17: ИЖР | K17: 0,59 ± 0,01 | N17: 10 | O17: ИЖР | Q17: 0,59 ± 0,01 | T17: 10 | U17: ИЖР | W17: 0,59 ± 0,01 | Z17: 10 | AA17: ИЖР | AC17: 0,59 ± 0,01
B19: =ДАННЫЕ!C7 -> 0 | H19: =ДАННЫЕ!C9 -> 1
B20: № ИБ/№ ПК | D20: =ДАННЫЕ!E6 -> 0 | H20: № ИБ/№ ПК | J20: =ДАННЫЕ!E9 -> 0 | N20: № ИБ/№ ПК | T20: № ИБ/№ ПК | Z20: № ИБ/№ ПК
B21: =ДАННЫЕ!D7 -> ФИО 02 | H21: =ДАННЫЕ!D9 -> ФИО 04
B22: ПОКАЗАТЕЛИ | D22: РЕЗУЛЬТАТ | E22: НОРМА | H22: ПОКАЗАТЕЛИ | J22: РЕЗУЛЬТАТ | K22: НОРМА | N22: ПОКАЗАТЕЛИ | P22: РЕЗУЛЬТАТ | Q22: НОРМА | T22: ПОКАЗАТЕЛИ | V22: РЕЗУЛЬТАТ | W22: НОРМА | Z22: ПОКАЗАТЕЛИ | AB22: РЕЗУЛЬТАТ | AC22: НОРМА
B23: 1 | C23: ОПС ПО ПШ 1 | E23: >35 | H23: 1 | I23: ОПС ПО ПШ 1 | K23: >35 | N23: 1 | O23: ОПС ПО ПШ 1 | Q23: >35 | T23: 1 | U23: ОПС ПО ПШ 1 | W23: >35 | Z23: 1 | AA23: ОПС ПО ПШ 1 | AC23: >35
B24: 2 | C24: ОПС ПО ШПН | E24: >30 | H24: 2 | I24: ОПС ПО ШПН | K24: >30 | N24: 2 | O24: ОПС ПО ШПН | Q24: >30 | T24: 2 | U24: ОПС ПО ШПН | W24: >30 | Z24: 2 | AA24: ОПС ПО ШПН | AC24: >30
B25: 3 | C25: ОПС ПО ШПО | E25: >50 - <100 | H25: 3 | I25: ОПС ПО ШПО | K25: >50 - <100 | N25: 3 | O25: ОПС ПО ШПО | Q25: >50 - <100 | T25: 3 | U25: ОПС ПО ШПО | W25: >50 - <100 | Z25: 3 | AA25: ОПС ПО ШПО | AC25: >50 - <100
B26: 4 | C26: УГ | E26: >0,1 | H26: 4 | I26: УГ | K26: >0,1 | N26: 4 | O26: УГ | Q26: >0,1 | T26: 4 | U26: УГ | W26: >0,1 | Z26: 4 | AA26: УГ | AC26: >0,1
B27: 5 | C27: ИРА | E27: 25 - >25 | H27: 5 | I27: ИРА | K27: 25 - >25 | N27: 5 | O27: ИРА | Q27: 25 - >25 | T27: 5 | U27: ИРА | W27: 25 - >25 | Z27: 5 | AA27: ИРА | AC27: 25 - >25
B28: 6 | C28: ИЭВ | E28: 1,3 ± 0,01 | H28: 6 | I28: ИЭВ | K28: 1,3 ± 0,01 | N28: 6 | O28: ИЭВ | Q28: 1,3 ± 0,01 | T28: 6 | U28: ИЭВ | W28: 1,3 ± 0,01 | Z28: 6 | AA28: ИЭВ | AC28: 1,3 ± 0,01
B29: 7 | C29: ИПК | E29: 2,2 ± 0,01 | H29: 7 | I29: ИПК | K29: 2,2 ± 0,01 | N29: 7 | O29: ИПК | Q29: 2,2 ± 0,01 | T29: 7 | U29: ИПК | W29: 2,2 ± 0,01 | Z29: 7 | AA29: ИПК | AC29: 2,2 ± 0,01
B30: 8 | C30: ОЗД | E30: 1,33 ± 0,43 | H30: 8 | I30: ОЗД | K30: 1,33 ± 0,43 | N30: 8 | O30: ОЗД | Q30: 1,33 ± 0,43 | T30: 8 | U30: ОЗД | W30: 1,33 ± 0,43 | Z30: 8 | AA30: ОЗД | AC30: 1,33 ± 0,43
B31: 9 | C31: ИНЖР | E31: 1,33 ± 0,01 | H31: 9 | I31: ИНЖР | K31: 1,33 ± 0,01 | N31: 9 | O31: ИНЖР | Q31: 1,33 ± 0,01 | T31: 9 | U31: ИНЖР | W31: 1,33 ± 0,01 | Z31: 9 | AA31: ИНЖР | AC31: 1,33 ± 0,01
B32: 10 | C32: ИЖР | E32: 0,59 ± 0,01 | H32: 10 | I32: ИЖР | K32: 0,59 ± 0,01 | N32: 10 | O32: ИЖР | Q32: 0,59 ± 0,01 | T32: 10 | U32: ИЖР | W32: 0,59 ± 0,01 | Z32: 10 | AA32: ИЖР | AC32: 0,59 ± 0,01
