Workbook

Sheet ПРОБА СЕРКИНА
C2: ПРОБА СЕРКИНА
C4: ДАТА | D4: ФАМИЛИЯ, ИМЯ, ОТЧЕСТВО | E4: НОМЕР ИБ И ПК | F4: ПШ № 1 | G4: ПШ № 2 | H4: ПШ№ 3 | I4: ШПН | J4: ШПО
C6: 1 | D6: 2 | E6: 3 | F6: 4 | G6: 5 | H6: 6 | I6: 7 | J6: 8
C7: 42859 | D7: ФИО 01 | I7: =IF(F7=0,0,(100/F7*G7)) -> 0 | J7: =IF(F7=0,0,(100/F7*H7)) -> 0
C8: 0 | D8: ФИО 02 | I8: =IF(F8=0,0,(100/F8*G8)) -> 0 | J8: =IF(F8=0,0,(100/F8*H8)) -> 0
C9: 0 | D9: ФИО 03 | I9: =IF(F9=0,0,(100/F9*G9)) -> 0 | J9: =IF(F9=0,0,(100/F9*H9)) -> 0
C10: 1 | D10: ФИО 04 | I10: =IF(F10=0,0,(100/F10*G10)) -> 0 | J10: =IF(F10=0,0,(100/F10*H10)) -> 0
C11: 0 | D11: ФИО 05 | I11: =IF(F11=0,0,(100/F11*G11)) -> 0 | J11: =IF(F11=0,0,(100/F11*H11)) -> 0
C12: 0 | D12: ФИО 06 | I12: =IF(F12=0,0,(100/F12*G12)) -> 0 | J12: =IF(F12=0,0,(100/F12*H12)) -> 0
C13: 0 | D13: ФИО 07 | I13: =IF(F13=0,0,(100/F13*G13)) -> 0 | J13: =IF(F13=0,0,(100/F13*H13)) -> 0
C14: 0 | D14: ФИО 08 | I14: =IF(F14=0,0,(100/F14*G14)) -> 0 | J14: =IF(F14=0,0,(100/F14*H14)) -> 0
C15: 0 | D15: ФИО 09 | I15: =IF(F15=0,0,(100/F15*G15)) -> 0 | J15: =IF(F15=0,0,(100/F15*H15)) -> 0
C16: 0 | D16: ФИО 10 | I16: =IF(F16=0,0,(100/F16*G16)) -> 0 | J16: =IF(F16=0,0,(100/F16*H16)) -> 0
C17: 0 | D17: ФИО 11 | I17: =IF(F17=0,0,(100/F17*G17)) -> 0 | J17: =IF(F17=0,0,(100/F17*H17)) -> 0
C18: 0 | D18: ФИО 12 | I18: =IF(F18=0,0,(100/F18*G18)) -> 0 | J18: =IF(F18=0,0,(100/F18*H18)) -> 0
... C26: 0 | D26: ФИО 20 | I26: =IF(F26=0,0,(100/F26*G26)) -> 0 | J26: =IF(F26=0,0,(100/F26*H26)) -> 0

Sheet РЕЗУЛЬТАТЫ
B3: ='ПРОБА СЕРКИНА'!C7 -> 42859 | H3: ='ПРОБА СЕРКИНА'!C12 -> 0 | N3: ='ПРОБА СЕРКИНА'!C22 -> 0 | T3: ='ПРОБА СЕРКИНА'!C17 -> 0
B4: ИСТОРИЯ БОЛЕЗНИ/ПРОЦЕДУРНАЯ КАРТА | D4: ='ПРОБА СЕРКИНА'!E7 -> 0 | H4: ИСТОРИЯ БОЛЕЗНИ/ПРОЦЕДУРНАЯ КАРТА | J4: ='ПРОБА СЕРКИНА'!E12 -> 0 | N4: ИСТОРИЯ БОЛЕЗНИ/ПРОЦЕДУРНАЯ КАРТА | P4: ='ПРОБА СЕРКИНА'!E22 -> 0 | T4: ИСТОРИЯ БОЛЕЗНИ/ПРОЦЕДУРНАЯ КАРТА | V4: ='ПРОБА СЕРКИНА'!E17 -> 0
B5: ='ПРОБА СЕРКИНА'!D7 -> ФИО 01 | H5: ='ПРОБА СЕРКИНА'!D12 -> ФИО 06 | N5: ='ПРОБА СЕРКИНА'!D22 -> ФИО 16 | T5: ='ПРОБА СЕРКИНА'!D17 -> ФИО 11
B6: ПОКАЗАТЕЛИ | D6: РЕЗУЛЬТАТ | E6: НОРМА | H6: ПОКАЗАТЕЛИ | J6: РЕЗУЛЬТАТ | K6: НОРМА | N6: ПОКАЗАТЕЛИ | P6: РЕЗУЛЬТАТ | Q6: НОРМА | T6: ПОКАЗАТЕЛИ | V6: РЕЗУЛЬТАТ | W6: НОРМА
B7: 1 | C7: ОЦЕНКА ПРОБЫ СЕРКИНА ПО ПШ 1 | D7: ='ПРОБА СЕРКИНА'!F7 -> 0 | E7: >35 | H7: 1 | I7: ОЦЕНКА ПРОБЫ СЕРКИНА ПО ПШ 1 | J7: ='ПРОБА СЕРКИНА'!F12 -> 0 | K7: >35 | N7: 1 | O7: ОЦЕНКА ПРОБЫ СЕРКИНА ПО ПШ 1 | P7: ='ПРОБА СЕРКИНА'!F22 -> 0 | Q7: >35 | T7: 1 | U7: ОЦЕНКА ПРОБЫ СЕРКИНА ПО ПШ 1 | V7: ='ПРОБА СЕРКИНА'!F17 -> 0 | W7: >35
B8: 2 | C8: ОЦЕНКА ПРОБЫ СЕРКИНА ПО ШПН | D8: ='ПРОБА СЕРКИНА'!I7 -> 0 | E8: >30 | H8: 2 | I8: ОЦЕНКА ПРОБЫ СЕРКИНА ПО ШПН | J8: ='ПРОБА СЕРКИНА'!I12 -> 0 | K8: >30 | N8: 2 | O8: ОЦЕНКА ПРОБЫ СЕРКИНА ПО ШПН | P8: ='ПРОБА СЕРКИНА'!#REF! -> #REF! | Q8: >30 | T8: 2 | U8: ОЦЕНКА ПРОБЫ СЕРКИНА ПО ШПН | V8: ='ПРОБА СЕРКИНА'!I17 -> 0 | W8: >30
B9: 3 | C9: ОЦЕНКА ПРОБЫ СЕРКИНА ПО ШПО | D9: ='ПРОБА СЕРКИНА'!J7 -> 0 | E9: >50 - <100 | H9: 3 | I9: ОЦЕНКА ПРОБЫ СЕРКИНА ПО ШПО | J9: ='ПРОБА СЕРКИНА'!J12 -> 0 | K9: >50 - <100 | N9: 3 | O9: ОЦЕНКА ПРОБЫ СЕРКИНА ПО ШПО | P9: ='ПРОБА СЕРКИНА'!J22 -> 0 | Q9: >50 - <100 | T9: 3 | U9: ОЦЕНКА ПРОБЫ СЕРКИНА ПО ШПО | V9: ='ПРОБА СЕРКИНА'!J17 -> 0 | W9: >50 - <100
B12: ='ПРОБА СЕРКИНА'!C8 -> 0 | H12: ='ПРОБА СЕРКИНА'!C13 -> 0 | N12: ='ПРОБА СЕРКИНА'!C23 -> 0 | T12: ='ПРОБА СЕРКИНА'!C18 -> 0
B13: ИСТОРИЯ БОЛЕЗНИ/ПРОЦЕДУРНАЯ КАРТА | D13: ='ПРОБА СЕРКИНА'!E8 -> 0 | H13: ИСТОРИЯ БОЛЕЗНИ/ПРОЦЕДУРНАЯ КАРТА | J13: ='ПРОБА СЕРКИНА'!E13 -> 0 | N13: ИСТОРИЯ БОЛЕЗНИ/ПРОЦЕДУРНАЯ КАРТА | P13: ='ПРОБА СЕРКИНА'!E23 -> 0 | T13: ИСТОРИЯ БОЛЕЗНИ/ПРОЦЕДУРНАЯ КАРТА | V13: ='ПРОБА СЕРКИНА'!E18 -> 0
B14: ='ПРОБА СЕРКИНА'!D8 -> ФИО 02 | H14: ='ПРОБА СЕРКИНА'!D13 -> ФИО 07 | N14: ='ПРОБА СЕРКИНА'!D23 -> ФИО 17 | T14: ='ПРОБА СЕРКИНА'!D18 -> ФИО 12
B15: ПОКАЗАТЕЛИ | D15: РЕЗУЛЬТАТ | E15: НОРМА | H15: ПОКАЗАТЕЛИ | J15: РЕЗУЛЬТАТ | K15: НОРМА | N15: ПОКАЗАТЕЛИ | P15: РЕЗУЛЬТАТ | Q15: НОРМА | T15: ПОКАЗАТЕЛИ | V15: РЕЗУЛЬТАТ | W15: НОРМА
B16: 1 | C16: ОЦЕНКА ПРОБЫ СЕРКИНА ПО ПШ 1 | D16: ='ПРОБА СЕРКИНА'!F8 -> 0 | E16: >35 | H16: 1 | I16: ОЦЕНКА ПРОБЫ СЕРКИНА ПО ПШ 1 | J16: ='ПРОБА СЕРКИНА'!F20 -> 0 | K16: >35 | N16: 1 | O16: ОЦЕНКА ПРОБЫ СЕРКИНА ПО ПШ 1 | P16: ='ПРОБА СЕРКИНА'!F23 -> 0 | Q16: >35 | T16: 1 | U16: ОЦЕНКА ПРОБЫ СЕРКИНА ПО ПШ 1 | V16: ='ПРОБА СЕРКИНА'!F18 -> 0 | W16: >35
B17: 2 | C17: ОЦЕНКА ПРОБЫ СЕРКИНА ПО ШПН | D17: ='ПРОБА СЕРКИНА'!I8 -> 0 | E17: >30 | H17: 2 | I17: ОЦЕНКА ПРОБЫ СЕРКИНА ПО ШПН | J17: ='ПРОБА СЕРКИНА'!I20 -> 0 | K17: >30 | N17: 2 | O17: ОЦЕНКА ПРОБЫ СЕРКИНА ПО ШПН | P17: ='ПРОБА СЕРКИНА'!I23 -> 0 | Q17: >30 | T17: 2 | U17: ОЦЕНКА ПРОБЫ СЕРКИНА ПО ШПН | V17: ='ПРОБА СЕРКИНА'!I18 -> 0 | W17: >30
B18: 3 | C18: ОЦЕНКА ПРОБЫ СЕРКИНА ПО ШПО | D18: ='ПРОБА СЕРКИНА'!J8 -> 0 | E18: >50 - <100 | H18: 3 | I18: ОЦЕНКА ПРОБЫ СЕРКИНА ПО ШПО | J18: ='ПРОБА СЕРКИНА'!J20 -> 0 | K18: >50 - <100 | N18: 3 | O18: ОЦЕНКА ПРОБЫ СЕРКИНА ПО ШПО | P18: ='ПРОБА СЕРКИНА'!J23 -> 0 | Q18: >50 - <100 | T18: 3 | U18: ОЦЕНКА ПРОБЫ СЕРКИНА ПО ШПО | V18: ='ПРОБА СЕРКИНА'!J18 -> 0 | W18: >50 - <100
B21: ='ПРОБА СЕРКИНА'!C9 -> 0 | H21: ='ПРОБА СЕРКИНА'!C14 -> 0 | N21: ='ПРОБА СЕРКИНА'!C24 -> 0 | T21: ='ПРОБА СЕРКИНА'!C19 -> 0
B22: ИСТОРИЯ БОЛЕЗНИ/ПРОЦЕДУРНАЯ КАРТА | D22: ='ПРОБА СЕРКИНА'!E9 -> 0 | H22: ИСТОРИЯ БОЛЕЗНИ/ПРОЦЕДУРНАЯ КАРТА | J22: ='ПРОБА СЕРКИНА'!E14 -> 0 | N22: ИСТОРИЯ БОЛЕЗНИ/ПРОЦЕДУРНАЯ КАРТА | P22: ='ПРОБА СЕРКИНА'!E24 -> 0 | T22: ИСТОРИЯ БОЛЕЗНИ/ПРОЦЕДУРНАЯ КАРТА | V22: ='ПРОБА СЕРКИНА'!E19 -> 0
B23: ='ПРОБА СЕРКИНА'!D9 -> ФИО 03 | H23: ='ПРОБА СЕРКИНА'!D14 -> ФИО 08 | N23: ='ПРОБА СЕРКИНА'!D24 -> ФИО 18 | T23: ='ПРОБА СЕРКИНА'!D19 -> ФИО 13
B24: ПОКАЗАТЕЛИ | D24: РЕЗУЛЬТАТ | E24: НОРМА | H24: ПОКАЗАТЕЛИ | J24: РЕЗУЛЬТАТ | K24: НОРМА | N24: ПОКАЗАТЕЛИ | P24: РЕЗУЛЬТАТ | Q24: НОРМА | T24: ПОКАЗАТЕЛИ | V24: РЕЗУЛЬТАТ | W24: НОРМА
B25: 1 | C25: ОЦЕНКА ПРОБЫ СЕРКИНА ПО ПШ 1 | D25: ='ПРОБА СЕРКИНА'!F9 -> 0 | E25: >35 | H25: 1 | I25: ОЦЕНКА ПРОБЫ СЕРКИНА ПО ПШ 1 | J25: ='ПРОБА СЕРКИНА'!F28 -> 0 | K25: >35 | N25: 1 | O25: ОЦЕНКА ПРОБЫ СЕРКИНА ПО ПШ 1 | P25: ='ПРОБА СЕРКИНА'!F24 -> 0 | Q25: >35 | T25: 1 | U25: ОЦЕНКА ПРОБЫ СЕРКИНА ПО ПШ 1 | V25: ='ПРОБА СЕРКИНА'!F19 -> 0 | W25: >35
B26: 2 | C26: ОЦЕНКА ПРОБЫ СЕРКИНА ПО ШПН | D26: ='ПРОБА СЕРКИНА'!I9 -> 0 | E26: >30 | H26: 2 | I26: ОЦЕНКА ПРОБЫ СЕРКИНА ПО ШПН | J26: ='ПРОБА СЕРКИНА'!I28 -> 0 | K26: >30 | N26: 2 | O26: ОЦЕНКА ПРОБЫ СЕРКИНА ПО ШПН | P26: ='ПРОБА СЕРКИНА'!I24 -> 0 | Q26: >30 | T26: 2 | U26: ОЦЕНКА ПРОБЫ СЕРКИНА ПО ШПН | V26: ='ПРОБА СЕРКИНА'!I19 -> 0 | W26: >30
B27: 3 | C27: ОЦЕНКА ПРОБЫ СЕРКИНА ПО ШПО | D27: ='ПРОБА СЕРКИНА'!J9 -> 0 | E27: >50 - <100 | H27: 3 | I27: ОЦЕНКА ПРОБЫ СЕРКИНА ПО ШПО | J27: ='ПРОБА СЕРКИНА'!J28 -> 0 | K27: >50 - <100 | N27: 3 | O27: ОЦЕНКА ПРОБЫ СЕРКИНА ПО ШПО | P27: ='ПРОБА СЕРКИНА'!J24 -> 0 | Q27: >50 - <100 | T27: 3 | U27: ОЦЕНКА ПРОБЫ СЕРКИНА ПО ШПО | V27: ='ПРОБА СЕРКИНА'!J19 -> 0 | W27: >50 - <100
B30: ='ПРОБА СЕРКИНА'!C10 -> 1 | H30: ='ПРОБА СЕРКИНА'!C15 -> 0 | N30: ='ПРОБА СЕРКИНА'!C25 -> 0 | T30: ='ПРОБА СЕРКИНА'!C20 -> 0
B31: ИСТОРИЯ БОЛЕЗНИ/ПРОЦЕДУРНАЯ КАРТА | D31: ='ПРОБА СЕРКИНА'!E10 -> 0 | H31: ИСТОРИЯ БОЛЕЗНИ/ПРОЦЕДУРНАЯ КАРТА | J31: ='ПРОБА СЕРКИНА'!E15 -> 0 | N31: ИСТОРИЯ БОЛЕЗНИ/ПРОЦЕДУРНАЯ КАРТА | P31: ='ПРОБА СЕРКИНА'!E25 -> 0 | T31: ИСТОРИЯ БОЛЕЗНИ/ПРОЦЕДУРНАЯ КАРТА | V31: ='ПРОБА СЕРКИНА'!E20 -> 0
B32: ='ПРОБА СЕРКИНА'!D10 -> ФИО 04 | H32: ='ПРОБА СЕРКИНА'!D15 -> ФИО 09 | N32: ='ПРОБА СЕРКИНА'!D25 -> ФИО 19 | T32: ='ПРОБА СЕРКИНА'!D20 -> ФИО 14
B33: ПОКАЗАТЕЛИ | D33: РЕЗУЛЬТАТ | E33: НОРМА | H33: ПОКАЗАТЕЛИ | J33: РЕЗУЛЬТАТ | K33: НОРМА | N33: ПОКАЗАТЕЛИ | P33: РЕЗУЛЬТАТ | Q33: НОРМА | T33: ПОКАЗАТЕЛИ | V33: РЕЗУЛЬТАТ | W33: НОРМА
B34: 1 | C34: ОЦЕНКА ПРОБЫ СЕРКИНА ПО ПШ 1 | D34: ='ПРОБА СЕРКИНА'!F10 -> 0 | E34: >35 | H34: 1 | I34: ОЦЕНКА ПРОБЫ СЕРКИНА ПО ПШ 1 | J34: ='ПРОБА СЕРКИНА'!F36 -> 0 | K34: >35 | N34: 1 | O34: ОЦЕНКА ПРОБЫ СЕРКИНА ПО ПШ 1 | P34: ='ПРОБА СЕРКИНА'!F25 -> 0 | Q34: >35 | T34: 1 | U34: ОЦЕНКА ПРОБЫ СЕРКИНА ПО ПШ 1 | V34: ='ПРОБА СЕРКИНА'!F20 -> 0 | W34: >35
B35: 2 | C35: ОЦЕНКА ПРОБЫ СЕРКИНА ПО ШПН | D35: ='ПРОБА СЕРКИНА'!I10 -> 0 | E35: >30 | H35: 2 | I35: ОЦЕНКА ПРОБЫ СЕРКИНА ПО ШПН | J35: ='ПРОБА СЕРКИНА'!I36 -> 0 | K35: >30 | N35: 2 | O35: ОЦЕНКА ПРОБЫ СЕРКИНА ПО ШПН | P35: ='ПРОБА СЕРКИНА'!I25 -> 0 | Q35: >30 | T35: 2 | U35: ОЦЕНКА ПРОБЫ СЕРКИНА ПО ШПН | V35: ='ПРОБА СЕРКИНА'!I20 -> 0 | W35: >30
B36: 3 | C36: ОЦЕНКА ПРОБЫ СЕРКИНА ПО ШПО | D36: ='ПРОБА СЕРКИНА'!J10 -> 0 | E36: >50 - <100 | H36: 3 | I36: ОЦЕНКА ПРОБЫ СЕРКИНА ПО ШПО | J36: ='ПРОБА СЕРКИНА'!J36 -> 0 | K36: >50 - <100 | N36: 3 | O36: ОЦЕНКА ПРОБЫ СЕРКИНА ПО ШПО | P36: ='ПРОБА СЕРКИНА'!J25 -> 0 | Q36: >50 - <100 | T36: 3 | U36: ОЦЕНКА ПРОБЫ СЕРКИНА ПО ШПО | V36: ='ПРОБА СЕРКИНА'!J20 -> 0 | W36: >50 - <100
B39: ='ПРОБА СЕРКИНА'!C11 -> 0 | H39: ='ПРОБА СЕРКИНА'!C16 -> 0 | N39: ='ПРОБА СЕРКИНА'!C26 -> 0 | T39: ='ПРОБА СЕРКИНА'!C21 -> 0
B40: ИСТОРИЯ БОЛЕЗНИ/ПРОЦЕДУРНАЯ КАРТА | D40: ='ПРОБА СЕРКИНА'!E11 -> 0 | H40: ИСТОРИЯ БОЛЕЗНИ/ПРОЦЕДУРНАЯ КАРТА | J40: ='ПРОБА СЕРКИНА'!E16 -> 0 | N40: ИСТОРИЯ БОЛЕЗНИ/ПРОЦЕДУРНАЯ КАРТА | P40: ='ПРОБА СЕРКИНА'!E26 -> 0 | T40: ИСТОРИЯ БОЛЕЗНИ/ПРОЦЕДУРНАЯ КАРТА | V40: ='ПРОБА СЕРКИНА'!E21 -> 0
B41: ='ПРОБА СЕРКИНА'!D11 -> ФИО 05 | H41: ='ПРОБА СЕРКИНА'!D16 -> ФИО 10 | N41: ='ПРОБА СЕРКИНА'!D26 -> ФИО 20 | T41: ='ПРОБА СЕРКИНА'!D21 -> ФИО 15
B42: ПОКАЗАТЕЛИ | D42: РЕЗУЛЬТАТ | E42: НОРМА | H42: ПОКАЗАТЕЛИ | J42: РЕЗУЛЬТАТ | K42: НОРМА | N42: ПОКАЗАТЕЛИ | P42: РЕЗУЛЬТАТ | Q42: НОРМА | T42: ПОКАЗАТЕЛИ | V42: РЕЗУЛЬТАТ | W42: НОРМА
B43: 1 | C43: ОЦЕНКА ПРОБЫ СЕРКИНА ПО ПШ 1 | D43: ='ПРОБА СЕРКИНА'!F11 -> 0 | E43: >35 | H43: 1 | I43: ОЦЕНКА ПРОБЫ СЕРКИНА ПО ПШ 1 | J43: ='ПРОБА СЕРКИНА'!F44 -> 0 | K43: >35 | N43: 1 | O43: ОЦЕНКА ПРОБЫ СЕРКИНА ПО ПШ 1 | P43: ='ПРОБА СЕРКИНА'!F26 -> 0 | Q43: >35 | T43: 1 | U43: ОЦЕНКА ПРОБЫ СЕРКИНА ПО ПШ 1 | V43: ='ПРОБА СЕРКИНА'!F21 -> 0 | W43: >35
B44: 2 | C44: ОЦЕНКА ПРОБЫ СЕРКИНА ПО ШПН | D44: ='ПРОБА СЕРКИНА'!I11 -> 0 | E44: >30 | H44: 2 | I44: ОЦЕНКА ПРОБЫ СЕРКИНА ПО ШПН | J44: ='ПРОБА СЕРКИНА'!I44 -> 0 | K44: >30 | N44: 2 | O44: ОЦЕНКА ПРОБЫ СЕРКИНА ПО ШПН | P44: ='ПРОБА СЕРКИНА'!I26 -> 0 | Q44: >30 | T44: 2 | U44: ОЦЕНКА ПРОБЫ СЕРКИНА ПО ШПН | V44: ='ПРОБА СЕРКИНА'!I21 -> 0 | W44: >30
B45: 3 | C45: ОЦЕНКА ПРОБЫ СЕРКИНА ПО ШПО | D45: ='ПРОБА СЕРКИНА'!J11 -> 0 | E45: >50 - <100 | H45: 3 | I45: ОЦЕНКА ПРОБЫ СЕРКИНА ПО ШПО | J45: ='ПРОБА СЕРКИНА'!J44 -> 0 | K45: >50 - <100 | N45: 3 | O45: ОЦЕНКА ПРОБЫ СЕРКИНА ПО ШПО | P45: ='ПРОБА СЕРКИНА'!#REF! -> #REF! | Q45: >50 - <100 | T45: 3 | U45: ОЦЕНКА ПРОБЫ СЕРКИНА ПО ШПО | V45: ='ПРОБА СЕРКИНА'!J21 -> 0 | W45: >50 - <100
